BEGIN:VCALENDAR
VERSION:2.0
PRODID:-//Community College of Philadelphia//NONSGML//EN
X-WR-CALNAME:Calendar
CALSCALE:GREGORIAN
BEGIN:VEVENT
UID:38969e7369b4299c
DTSTART:20260416T153000Z
DTEND:20260416T173000Z
DTSTAMP:20260416T153000Z
CREATED:20260421T043435Z
DESCRIPTION:Let go of your stress with some snacks and relaxation activities.
LAST-MODIFIED:20260416T153000Z
LOCATION:
SUMMARY:Destress Fest at CATC
SEQUENCE:0
STATUS:CONFIRMED
TRANSP:OPAQUE
END:VEVENT
END:VCALENDAR