BEGIN:VCALENDAR
VERSION:2.0
PRODID:-//Community College of Philadelphia//NONSGML//EN
X-WR-CALNAME:Calendar
CALSCALE:GREGORIAN
BEGIN:VEVENT
UID:969e7369b39895
DTSTART:20260310T153000Z
DTEND:20260310T173000Z
DTSTAMP:20260310T153000Z
CREATED:20260421T043435Z
DESCRIPTION:Celebrate women's history month by creating a bouquet of flowers.
LAST-MODIFIED:20260310T153000Z
LOCATION:
SUMMARY:Women's History Month Flower Arrangement Event at NERC
SEQUENCE:0
STATUS:CONFIRMED
TRANSP:OPAQUE
END:VEVENT
END:VCALENDAR