BEGIN:VCALENDAR
VERSION:2.0
PRODID:-//Community College of Philadelphia//NONSGML//EN
X-WR-CALNAME:Calendar
CALSCALE:GREGORIAN
BEGIN:VEVENT
UID:769e7367b95e42
DTSTART:20260323T210000Z
DTEND:20260323T220000Z
DTSTAMP:20260323T210000Z
CREATED:20260421T043403Z
DESCRIPTION:Find out about the transfer agreements CCP has with other colleges and universities\, how to best plan your courses and what transfer scholarships are available.This workshop will be held virtually.For full event details\, visit our&nbsp\;Transfer&nbsp\;page.&nbsp\;
LAST-MODIFIED:20260323T210000Z
LOCATION:
SUMMARY:Transfer Workshop 101: An Introduction
SEQUENCE:0
STATUS:CONFIRMED
TRANSP:OPAQUE
END:VEVENT
END:VCALENDAR