BEGIN:VCALENDAR
VERSION:2.0
PRODID:-//Community College of Philadelphia//NONSGML//EN
X-WR-CALNAME:Calendar
CALSCALE:GREGORIAN
BEGIN:VEVENT
UID:31469e89becbc5c5
DTSTART:20251030T170000Z
DTEND:20251030T190000Z
DTSTAMP:20251030T170000Z
CREATED:20260422T055908Z
DESCRIPTION:Put clues together and see how fast you can "escape" our room!
LAST-MODIFIED:20251030T170000Z
LOCATION:
SUMMARY:NERC Escape Room
SEQUENCE:0
STATUS:CONFIRMED
TRANSP:OPAQUE
END:VEVENT
END:VCALENDAR