BEGIN:VCALENDAR
VERSION:2.0
PRODID:-//Community College of Philadelphia//NONSGML//EN
X-WR-CALNAME:Calendar
CALSCALE:GREGORIAN
BEGIN:VEVENT
UID:16769e897e62307e
DTSTART:20250915T140000Z
DTEND:20250915T150000Z
DTSTAMP:20250915T140000Z
CREATED:20260422T054158Z
DESCRIPTION:Power Hour is a new\, dynamic engagement series designed to foster casual yet meaningful dialogues that bring together CCP students\, elected officials and leaders. CCP is hosting the Power Hour series the third week of each month for the fall 2025 semester.Get ready for an inspiring and uplifting discussion about mental health awareness and resources with our guests:Regina Young\, State Representative\, the 185th Legislative DistrictAnthony Phillips\, City Councilmember\, 9th Council DistrictKenneth McDuffie (Chef Kenny)\, chef\, culinary entrepreneur and media personalityRSVP for Power Hour&nbsp\;
LAST-MODIFIED:20250915T140000Z
LOCATION:
SUMMARY:Power Hour Series: Mental Health Awareness and Resources
SEQUENCE:0
STATUS:CONFIRMED
TRANSP:OPAQUE
END:VEVENT
END:VCALENDAR