BEGIN:VCALENDAR
VERSION:2.0
PRODID:-//Community College of Philadelphia//NONSGML//EN
X-WR-CALNAME:Calendar
CALSCALE:GREGORIAN
BEGIN:VEVENT
UID:60469e7e38d9bec6
DTSTART:20250408T150000Z
DTEND:20250408T200000Z
DTSTAMP:20250408T150000Z
CREATED:20260421T165229Z
DESCRIPTION:Gen Z Day and The I Am More Program\, along with Reform Alliance and Mural Arts of Philadelphia\, will hold a tabling event for staff\, students\, employees and the CCP community. This event is meant to inform attendees about jobs and community opportunities.
LAST-MODIFIED:20250408T150000Z
LOCATION:
SUMMARY:I Am More Program\, Gen Z Day
SEQUENCE:0
STATUS:CONFIRMED
TRANSP:OPAQUE
END:VEVENT
END:VCALENDAR