BEGIN:VCALENDAR
VERSION:2.0
PRODID:-//Community College of Philadelphia//NONSGML//EN
X-WR-CALNAME:Calendar
CALSCALE:GREGORIAN
BEGIN:VEVENT
UID:7769e7e558939cc
DTSTART:20250410T160000Z
DTEND:20250410T180000Z
DTSTAMP:20250410T160000Z
CREATED:20260421T170008Z
DESCRIPTION:Ping pong\, anyone! Do you think you've got the table tennis skills to call yourself a champion?&nbsp\;Come by the Athletics Center to sign up for another eventful table tennis tournament. Individuals and teams of two are welcome.&nbsp\;Open&nbsp\;to Community College of Philadelphia students\, faculty\, and staff.Please email Charis Felton at&nbsp\;cfelton@ccp.edu&nbsp\; and&nbsp\;Jesus Godoy&nbsp\;jgodoy@ccp.edu&nbsp\;in advance to participate.
LAST-MODIFIED:20250410T160000Z
LOCATION:
SUMMARY:Table Tennis Tournament
SEQUENCE:0
STATUS:CONFIRMED
TRANSP:OPAQUE
END:VEVENT
END:VCALENDAR