BEGIN:VCALENDAR
VERSION:2.0
PRODID:-//Community College of Philadelphia//NONSGML//EN
X-WR-CALNAME:Calendar
CALSCALE:GREGORIAN
BEGIN:VEVENT
UID:59469e7e4a74de65
DTSTART:20250403T143000Z
DTEND:20250403T160000Z
DTSTAMP:20250403T143000Z
CREATED:20260421T165711Z
DESCRIPTION:Join us for a conversation with Christopher Michael Stevens along with Carol Riddick\, Marcus Myers and Mare about the life of touring music artists. This is our final public event with Artist in Residence Christopher Michael Stevens and is free and open to the public.
LAST-MODIFIED:20250403T143000Z
LOCATION:
SUMMARY:Conquering the Stage - A Touring Musician Discussion
SEQUENCE:0
STATUS:CONFIRMED
TRANSP:OPAQUE
END:VEVENT
END:VCALENDAR