BEGIN:VCALENDAR
VERSION:2.0
PRODID:-//Community College of Philadelphia//NONSGML//EN
X-WR-CALNAME:Calendar
CALSCALE:GREGORIAN
BEGIN:VEVENT
UID:59569e7e71573363
DTSTART:20250403T160000Z
DTEND:20250403T190000Z
DTSTAMP:20250403T160000Z
CREATED:20260421T170733Z
DESCRIPTION:Join us for a lively discussion and podcast viewing that celebrates justice impacted women and women's empowerment. This event will feature Women's Way's Beyond the Razor Wire Fence podcast and student participant Angie Orozco-Rasique. There will also be a discussion with Change the Narrative Fellows about the ways in which the carceral system perpetuates gender inequities. Lastly\, there will be a letter writing project with Hearts on a Wire\, a grassroots inside/outside prison advocacy organization working to address the needs of transgender people in Pennsylvania’s prisons.
LAST-MODIFIED:20250403T160000Z
LOCATION:
SUMMARY:Beyond the Razor Wire Fence: CCP x Women's Way Podcast and Letter Writing Session
SEQUENCE:0
STATUS:CONFIRMED
TRANSP:OPAQUE
END:VEVENT
END:VCALENDAR