BEGIN:VCALENDAR
VERSION:2.0
PRODID:-//Community College of Philadelphia//NONSGML//EN
X-WR-CALNAME:Calendar
CALSCALE:GREGORIAN
BEGIN:VEVENT
UID:4669e7e3e5e855a
DTSTART:20250414T170000Z
DTEND:20250414T190000Z
DTSTAMP:20250414T170000Z
CREATED:20260421T165357Z
DESCRIPTION:Sign up for another action-packed Indoor Soccer Tournament on Monday\, April 14 and Tuesday\, April 15 from 1 - 3 p.m. in the Athletics Center (gymnasium). The game is fast\, and the scores are high. The tournament will cap off with eight teams so register early.Full teams or individuals are eligible to sign up prior to April 14 with Jesus Godoy\, jgodoy@ccp.edu or Charis Felton\, cfelton@ccp.edu. Open to Community College of Philadelphia students\, faculty\, staff\, and alumni.&nbsp\;
LAST-MODIFIED:20250414T170000Z
LOCATION:
SUMMARY:Indoor Soccer Tournament
SEQUENCE:0
STATUS:CONFIRMED
TRANSP:OPAQUE
END:VEVENT
END:VCALENDAR