BEGIN:VCALENDAR
VERSION:2.0
PRODID:-//Community College of Philadelphia//NONSGML//EN
X-WR-CALNAME:Calendar
CALSCALE:GREGORIAN
BEGIN:VEVENT
UID:6669e7e4596cc46
DTSTART:20250408T163000Z
DTEND:20250408T173000Z
DTSTAMP:20250408T163000Z
CREATED:20260421T165553Z
DESCRIPTION:Join us for an online information session to learn more about Community College of Philadelphia's Nursing program. As a student of the College’s Nursing program\, you will enjoy many benefits\, from an innovative curriculum to supportive faculty\; state-of-the-art equipment\; hands-on learning\; supervised time in hospitals\, geriatric settings and community-based agencies\; and preparation to take the national licensure exam for credentials accepted throughout the United States. Community College of Philadelphia's Nursing program is one of 15 in the country to be chosen as a Center of Excellence by the National League for Nursing. The program is recognized for “Enhancing the Professional Development of Students." This is the College's fourth consecutive designation as a Center of Excellence.For the traditional option\, students may be first-time college students or have had previous college experience.Learn more on our Nursing intake webpage.
LAST-MODIFIED:20250408T163000Z
LOCATION:
SUMMARY:Nursing Information Session - Traditional Option
SEQUENCE:0
STATUS:CONFIRMED
TRANSP:OPAQUE
END:VEVENT
END:VCALENDAR