BEGIN:VCALENDAR
VERSION:2.0
PRODID:-//Community College of Philadelphia//NONSGML//EN
X-WR-CALNAME:Calendar
CALSCALE:GREGORIAN
BEGIN:VEVENT
UID:8669e7e5003f6a6
DTSTART:20250425T160000Z
DTEND:20250425T170000Z
DTSTAMP:20250425T160000Z
CREATED:20260421T165840Z
DESCRIPTION:Join us for an online information session to learn more about the College's Post-Baccalaureate Nursing degree option. This option is open to students who have a bachelor’s degree or higher in a non-nursing major and have met additional prerequisites. In addition to nursing courses\, students must show evidence of completion of all other program courses. Biology 109\, 110\, 241 and Diet 111 must be completed or in progress at time of application.Learn more about Nursing course sequence options and how to apply on our Nursing intake webpage.Contact Dan Larmour at&nbsp\;dlarmour@ccp.edu for more information.
LAST-MODIFIED:20250425T160000Z
LOCATION:
SUMMARY:Nursing Information Session - Post-Baccalaureate (PBAD) Option
SEQUENCE:0
STATUS:CONFIRMED
TRANSP:OPAQUE
END:VEVENT
END:VCALENDAR