BEGIN:VCALENDAR
VERSION:2.0
PRODID:-//Community College of Philadelphia//NONSGML//EN
X-WR-CALNAME:Calendar
CALSCALE:GREGORIAN
BEGIN:VEVENT
UID:13069e7e3d63618f
DTSTART:20250401T140000Z
DTEND:20250401T180000Z
DTSTAMP:20250401T140000Z
CREATED:20260421T165342Z
DESCRIPTION:Plan now for your future! Attend our upcoming transfer take over days to explore your options after you graduate from the College. Penn State will take over the Bonnell Lobby for ONE day\, bringing multiple offices and representatives to answer your questions!Meet with representatives from three of Penn State’s campuses: Abington\, Brandywine and Harrisburg.We hope to see you at our&nbsp\;transfer&nbsp\;events! For more details\, visit our&nbsp\;Transfer&nbsp\;page.
LAST-MODIFIED:20250401T140000Z
LOCATION:
SUMMARY:Transfer Take Over – Penn State University
SEQUENCE:0
STATUS:CONFIRMED
TRANSP:OPAQUE
END:VEVENT
END:VCALENDAR