BEGIN:VCALENDAR
VERSION:2.0
PRODID:-//Community College of Philadelphia//NONSGML//EN
X-WR-CALNAME:Calendar
CALSCALE:GREGORIAN
BEGIN:VEVENT
UID:58369e7e3e5b96ea
DTSTART:20250402T140000Z
DTEND:20250402T180000Z
DTSTAMP:20250402T140000Z
CREATED:20260421T165357Z
DESCRIPTION:Plan now for your future! Attend our upcoming transfer take over days to explore your options after you graduate from the College. West Chester will take over the Bonnell Lobby for ONE day\, bringing multiple offices and representatives to answer your questions!Meet with representatives from various programs offered by West Chester University.We hope to see you at our&nbsp\;transfer&nbsp\;events! For more details\, visit our&nbsp\;Transfer&nbsp\;page.
LAST-MODIFIED:20250402T140000Z
LOCATION:
SUMMARY:Transfer Take Over – West Chester University
SEQUENCE:0
STATUS:CONFIRMED
TRANSP:OPAQUE
END:VEVENT
END:VCALENDAR