BEGIN:VCALENDAR
VERSION:2.0
PRODID:-//Community College of Philadelphia//NONSGML//EN
X-WR-CALNAME:Calendar
CALSCALE:GREGORIAN
BEGIN:VEVENT
UID:72369e7e4fff214f
DTSTART:20250402T170000Z
DTEND:20250402T190000Z
DTSTAMP:20250402T170000Z
CREATED:20260421T165839Z
DESCRIPTION:Come showcase your volleyball skills at our indoor volleyball tournament. This double elimination tournament will cap off at eight teams\, and full teams or individuals are eligible to sign up prior to April 2. Open&nbsp\;to Community College of Philadelphia students\, faculty\, and staff.Please email Charis Felton at cfelton@ccp.edu&nbsp\;and Jesus Godoy&nbsp\;jgodoy@ccp.edu&nbsp\;in advance to participate.The tournament will take place over the course of 2 days\, April 2 and April 3\, starting at 1 p.m. on both days.&nbsp\;
LAST-MODIFIED:20250402T170000Z
LOCATION:
SUMMARY:5-on-5 Volleyball Tournament
SEQUENCE:0
STATUS:CONFIRMED
TRANSP:OPAQUE
END:VEVENT
END:VCALENDAR