BEGIN:VCALENDAR
VERSION:2.0
PRODID:-//Community College of Philadelphia//NONSGML//EN
X-WR-CALNAME:Calendar
CALSCALE:GREGORIAN
BEGIN:VEVENT
UID:81169e7e2f1b3ac6
DTSTART:20250326T170000Z
DTEND:20250326T180000Z
DTSTAMP:20250326T170000Z
CREATED:20260421T164953Z
DESCRIPTION:Join us to learn more about our&nbsp\;Personal Training certificate program&nbsp\;and how you can prepare for a career helping others meet fitness goals. You'll meet faculty\, get answers to your questions and learn how to apply.
LAST-MODIFIED:20250326T170000Z
LOCATION:
SUMMARY:Personal Training Certificate Info Session
SEQUENCE:0
STATUS:CONFIRMED
TRANSP:OPAQUE
END:VEVENT
END:VCALENDAR