BEGIN:VCALENDAR
VERSION:2.0
PRODID:-//Community College of Philadelphia//NONSGML//EN
X-WR-CALNAME:Calendar
CALSCALE:GREGORIAN
BEGIN:VEVENT
UID:97969e7cfc73441c
DTSTART:20250403T151500Z
DTEND:20250403T164500Z
DTSTAMP:20250403T151500Z
CREATED:20260421T152807Z
DESCRIPTION:Student International Scholarships for Language Study and Study Abroad | 11:15 a.m. – 12:45 p.m. | &nbsp\;C2-28 or join us on Zoom&nbsp\;Learn about upcoming scholarship opportunities to study abroad and to study critical need languages. Over the past five years\, some CCP scholarship winners have studied in Taiwan and Costa Rica\, and studied Arabic and Chinese languages.
LAST-MODIFIED:20250403T151500Z
LOCATION:
SUMMARY:40 Annual International Festival: Thursday\, April 3
SEQUENCE:0
STATUS:CONFIRMED
TRANSP:OPAQUE
END:VEVENT
END:VCALENDAR