BEGIN:VCALENDAR
VERSION:2.0
PRODID:-//Community College of Philadelphia//NONSGML//EN
X-WR-CALNAME:Calendar
CALSCALE:GREGORIAN
BEGIN:VEVENT
UID:23069e7cfa3c4b46
DTSTART:20250402T153000Z
DTEND:20250402T190000Z
DTSTAMP:20250402T153000Z
CREATED:20260421T152731Z
DESCRIPTION:Events started by Dr. Pairat Sethbhakdi of the English department in 1983 evolved into the College’s annual International Festival\, which is proud to celebrate its 40th year with the theme Building Bridges Across the Globe. Find full event details here.Join us April 2 for the following events:Cuisine From Around the World | 11:30 a.m. – 1 p.m. | Klein Cube\, Pavilion BuildingEnjoy international cuisine from Culinary Arts and Hospitality Management students and faculty. We’ll also award winners of our International Essay Contest. The cost is $12 per person (Lion Card only). Email&nbsp\;cahm@ccp.edu&nbsp\;before 8 a.m. on Wednesday\, April 2\, to secure your spot.Learn About Studying at Temple University Japan in Tokyo or Kyoto | 2 – 3 p.m. | ZoomAttend a virtual information session to learn about opportunities to study abroad\, as well as transfer and scholarship opportunities.
LAST-MODIFIED:20250402T153000Z
LOCATION:
SUMMARY:40th Annual International Festival: Wednesday\, April 2
SEQUENCE:0
STATUS:CONFIRMED
TRANSP:OPAQUE
END:VEVENT
END:VCALENDAR