BEGIN:VCALENDAR
VERSION:2.0
PRODID:-//Community College of Philadelphia//NONSGML//EN
X-WR-CALNAME:Calendar
CALSCALE:GREGORIAN
BEGIN:VEVENT
UID:84169e7cfa3c991a
DTSTART:20250331T151500Z
DTEND:20250331T190000Z
DTSTAMP:20250331T151500Z
CREATED:20260421T152731Z
DESCRIPTION:Events started by Dr. Pairat Sethbhakdi of the English department in 1983 evolved into the College’s annual International Festival\, which is proud to celebrate its 40th year with the theme Building Bridges Across the Globe. Find full event details here.Join us March 31 for the following events:Keynote address: Dr. Stephanie Doscher\, University of Minnesota | 11:15 a.m. – 12:30 p.m. | Room C2-28 or join us on ZoomBuilding Virtual Bridges: The Role of COIL in Internationalizing Curriculum and CampusDiscover how Collaborative Online International Learning (COIL) transforms the way we think about internationalization and what\, how\, and with whom we teach and learn.International Student Panel: Global Student Perspectives on Global Issues | 1 – 3 p.m. | Bonnell LobbyHear from CCP students and students from North West Regional College\, Northern Ireland\, as they share their perspectives on global topics.
LAST-MODIFIED:20250331T151500Z
LOCATION:
SUMMARY:40th Annual International Festival: Monday\, March 31 
SEQUENCE:0
STATUS:CONFIRMED
TRANSP:OPAQUE
END:VEVENT
END:VCALENDAR