BEGIN:VCALENDAR
VERSION:2.0
PRODID:-//Community College of Philadelphia//NONSGML//EN
X-WR-CALNAME:Calendar
CALSCALE:GREGORIAN
BEGIN:VEVENT
UID:35769e7cf2666136
DTSTART:20250325T170000Z
DTEND:20250325T183000Z
DTSTAMP:20250325T170000Z
CREATED:20260421T152526Z
DESCRIPTION:Find a sense of belonging in our safe space gathering for all. Refreshments will be served.RSVP&nbsp\;for this event.&nbsp\;
LAST-MODIFIED:20250325T170000Z
LOCATION:
SUMMARY:Together We Thrive
SEQUENCE:0
STATUS:CONFIRMED
TRANSP:OPAQUE
END:VEVENT
END:VCALENDAR