BEGIN:VCALENDAR
VERSION:2.0
PRODID:-//Community College of Philadelphia//NONSGML//EN
X-WR-CALNAME:Calendar
CALSCALE:GREGORIAN
BEGIN:VEVENT
UID:97069e7ce75a2d61
DTSTART:20250327T143000Z
DTEND:20250327T183000Z
DTSTAMP:20250327T143000Z
CREATED:20260421T152229Z
DESCRIPTION:Stop by the Career Connections office to get a high-quality headshot taken and enjoy some delicious soft pretzels. No appointment needed—just drop in\, grab a snack and leave with a polished new headshot! Career Threads will be available for students needing professional attire.
LAST-MODIFIED:20250327T143000Z
LOCATION:
SUMMARY:Snap and Snack: LinkedIn Headshot Event
SEQUENCE:0
STATUS:CONFIRMED
TRANSP:OPAQUE
END:VEVENT
END:VCALENDAR