BEGIN:VCALENDAR
VERSION:2.0
PRODID:-//Community College of Philadelphia//NONSGML//EN
X-WR-CALNAME:Calendar
CALSCALE:GREGORIAN
BEGIN:VEVENT
UID:7369e7ce7b57c1c
DTSTART:20250324T143000Z
DTEND:20250324T183000Z
DTSTAMP:20250324T143000Z
CREATED:20260421T152235Z
DESCRIPTION:Stop by the Career Connections office to get a high-quality headshot taken and enjoy some delicious soft pretzels. No appointment needed—just drop in\, grab a snack and leave with a polished new headshot! Career Threads will be available for students needing professional attire.
LAST-MODIFIED:20250324T143000Z
LOCATION:
SUMMARY:Snap and Snack: LinkedIn Headshot Event
SEQUENCE:0
STATUS:CONFIRMED
TRANSP:OPAQUE
END:VEVENT
END:VCALENDAR