BEGIN:VCALENDAR
VERSION:2.0
PRODID:-//Community College of Philadelphia//NONSGML//EN
X-WR-CALNAME:Calendar
CALSCALE:GREGORIAN
BEGIN:VEVENT
UID:6369e7cf8eb67c9
DTSTART:20250325T170000Z
DTEND:20250325T190000Z
DTSTAMP:20250325T170000Z
CREATED:20260421T152710Z
DESCRIPTION:Got Game? Show off your moves and compete in our annual 3-on-3 basketball tournament. Sign up solo or with a team—play to win!&nbsp\;The tournament will take place March 25-28.Learn more: ccp.edu/gameon.
LAST-MODIFIED:20250325T170000Z
LOCATION:
SUMMARY:3-3 Basketball Tournament
SEQUENCE:0
STATUS:CONFIRMED
TRANSP:OPAQUE
END:VEVENT
END:VCALENDAR