BEGIN:VCALENDAR
VERSION:2.0
PRODID:-//Community College of Philadelphia//NONSGML//EN
X-WR-CALNAME:Calendar
CALSCALE:GREGORIAN
BEGIN:VEVENT
UID:1969e7b7b90a754
DTSTART:20250410T160000Z
DTEND:20250410T190000Z
DTSTAMP:20250410T160000Z
CREATED:20260421T134529Z
DESCRIPTION:Students are invited to find gender-affirming\, professional clothing for free.Rain location: Winnet Lobby.&nbsp\;
LAST-MODIFIED:20250410T160000Z
LOCATION:
SUMMARY:Gender Neutral Business Clothes Pop Up
SEQUENCE:0
STATUS:CONFIRMED
TRANSP:OPAQUE
END:VEVENT
END:VCALENDAR