BEGIN:VCALENDAR
VERSION:2.0
PRODID:-//Community College of Philadelphia//NONSGML//EN
X-WR-CALNAME:Calendar
CALSCALE:GREGORIAN
BEGIN:VEVENT
UID:5369e7b799676ca
DTSTART:20250328T200000Z
DTEND:20250328T220000Z
DTSTAMP:20250328T200000Z
CREATED:20260421T134457Z
DESCRIPTION:The College’s Queer Student Union (QSU) is hosting student performances and a coffeehouse in celebration of International Transgender Day of Visibility. Enjoy food\, drinks and a show while getting to know the QSU.
LAST-MODIFIED:20250328T200000Z
LOCATION:
SUMMARY:QSU Student Drag Show and Coffeehouse
SEQUENCE:0
STATUS:CONFIRMED
TRANSP:OPAQUE
END:VEVENT
END:VCALENDAR