BEGIN:VCALENDAR
VERSION:2.0
PRODID:-//Community College of Philadelphia//NONSGML//EN
X-WR-CALNAME:Calendar
CALSCALE:GREGORIAN
BEGIN:VEVENT
UID:50069e7b765ac300
DTSTART:20250327T150000Z
DTEND:20250327T170000Z
DTSTAMP:20250327T150000Z
CREATED:20260421T134405Z
DESCRIPTION:Join us for lunch and a game of Women's History Month bingo featuring famous women throughout history for a chance to win prizes!
LAST-MODIFIED:20250327T150000Z
LOCATION:
SUMMARY:Women's History Month Lunch and Bingo
SEQUENCE:0
STATUS:CONFIRMED
TRANSP:OPAQUE
END:VEVENT
END:VCALENDAR