BEGIN:VCALENDAR
VERSION:2.0
PRODID:-//Community College of Philadelphia//NONSGML//EN
X-WR-CALNAME:Calendar
CALSCALE:GREGORIAN
BEGIN:VEVENT
UID:61569e7b751b1182
DTSTART:20250326T223000Z
DTEND:20250327T003000Z
DTSTAMP:20250326T223000Z
CREATED:20260421T134345Z
DESCRIPTION:Join author and professor Juan Llamas-Rodriguez from University of Pennsylvania's Center for Latin American and Latinx Studies and Community College of Philadelphia for a screening of the classic&nbsp\;Y&nbsp\;Tu&nbsp\;Mamá También and Llamas-Rodriguez' new book about the film.This event will take place at the Film Society Center at 1412 Chestnut Street.&nbsp\;
LAST-MODIFIED:20250326T223000Z
LOCATION:
SUMMARY:Philly Film Society – "Y Tu Mamá También" Film Screening
SEQUENCE:0
STATUS:CONFIRMED
TRANSP:OPAQUE
END:VEVENT
END:VCALENDAR