BEGIN:VCALENDAR
VERSION:2.0
PRODID:-//Community College of Philadelphia//NONSGML//EN
X-WR-CALNAME:Calendar
CALSCALE:GREGORIAN
BEGIN:VEVENT
UID:4269e7b799626e3
DTSTART:20250326T170000Z
DTEND:20250326T183000Z
DTSTAMP:20250326T170000Z
CREATED:20260421T134457Z
DESCRIPTION:Join us as we highlight the work of Karen&nbsp\;Smyles\, WHYY producer\, on her&nbsp\;documentary&nbsp\;about the Uptown Theater\, opening in 1929 as a motion picture palace\, lauded for its architectural and engineering designs. Later it was popular on the vaudeville circuit and became an important venue on the Chitlin Circuit\, second only to NY’s Apollo Theater\, and nurtured the careers of many famous African American entertainers. Experience it all with historians\, former concertgoers\, and performers.&nbsp\;The program recently won 2025 Best Documentary from the Pennsylvania Association of&nbsp\;Broadcasters. A panel discussion will follow with panelists:Karen Smyles\, WHYY producerAissia Richardson\, Senator Sharif Street's Deputy Chief&nbsp\;StaffMonifa Young\, Director\, Gateway to College
LAST-MODIFIED:20250326T170000Z
LOCATION:
SUMMARY:"The Uptown Theater: Movies\, Music & Memories" Film Screening and Panel Discussion
SEQUENCE:0
STATUS:CONFIRMED
TRANSP:OPAQUE
END:VEVENT
END:VCALENDAR