BEGIN:VCALENDAR
VERSION:2.0
PRODID:-//Community College of Philadelphia//NONSGML//EN
X-WR-CALNAME:Calendar
CALSCALE:GREGORIAN
BEGIN:VEVENT
UID:43869e7b7660f695
DTSTART:20250324T150000Z
DTEND:20250324T180000Z
DTSTAMP:20250324T150000Z
CREATED:20260421T134406Z
DESCRIPTION:Finding stylish and affordable clothes that fit all body types can be difficult. Students are invited to join us for this event to enjoy free food\, free clothing\, and tutorials on the basics of sewing.&nbsp\;&nbsp\;&nbsp\;&nbsp\;&nbsp\;&nbsp\;&nbsp\;&nbsp\;&nbsp\;&nbsp\;&nbsp\;&nbsp\;
LAST-MODIFIED:20250324T150000Z
LOCATION:
SUMMARY:Women's History Month Plus Size Clothing Swap
SEQUENCE:0
STATUS:CONFIRMED
TRANSP:OPAQUE
END:VEVENT
END:VCALENDAR