BEGIN:VCALENDAR
VERSION:2.0
PRODID:-//Community College of Philadelphia//NONSGML//EN
X-WR-CALNAME:Calendar
CALSCALE:GREGORIAN
BEGIN:VEVENT
UID:75969e7b7a14e401
DTSTART:20250318T150000Z
DTEND:20250318T170000Z
DTSTAMP:20250318T150000Z
CREATED:20260421T134505Z
DESCRIPTION:You’re invited to a Fireside Chat to honor Women’s History Month. Join us for lunch and an engaging conversation to share your views and experiences.
LAST-MODIFIED:20250318T150000Z
LOCATION:
SUMMARY:Women's History Month Fireside Chat
SEQUENCE:0
STATUS:CONFIRMED
TRANSP:OPAQUE
END:VEVENT
END:VCALENDAR