BEGIN:VCALENDAR
VERSION:2.0
PRODID:-//Community College of Philadelphia//NONSGML//EN
X-WR-CALNAME:Calendar
CALSCALE:GREGORIAN
BEGIN:VEVENT
UID:16069e7a0f6a5da1
DTSTART:20250319T140000Z
DTEND:20250319T180000Z
DTSTAMP:20250319T140000Z
CREATED:20260421T120822Z
DESCRIPTION:Join us as Music department head and Spring Garden Records director\, Paul Geissinger\, leads a discussion and music production track breakdowns with current Artist in Residence\, Christopher Michael Stevens\, and special guest\, producer/composer Donald Robinson.
LAST-MODIFIED:20250319T140000Z
LOCATION:
SUMMARY:Behind the Production with Christopher Michael Stevens and Donald Robinson
SEQUENCE:0
STATUS:CONFIRMED
TRANSP:OPAQUE
END:VEVENT
END:VCALENDAR