BEGIN:VCALENDAR
VERSION:2.0
PRODID:-//Community College of Philadelphia//NONSGML//EN
X-WR-CALNAME:Calendar
CALSCALE:GREGORIAN
BEGIN:VEVENT
UID:106769e7a17e436c7
DTSTART:20250320T140000Z
DTEND:20250320T144500Z
DTSTAMP:20250320T140000Z
CREATED:20260421T121038Z
DESCRIPTION:Join us for an online information session to learn more about the Medical Laboratory Technician program\, how to apply to the program\, and what careers you can pursue with a Medical Laboratory Technician degree.Can't make it to an information session? Watch a recording to learn more.
LAST-MODIFIED:20250320T140000Z
LOCATION:
SUMMARY:Medical Laboratory Technician Program Information Session
SEQUENCE:0
STATUS:CONFIRMED
TRANSP:OPAQUE
END:VEVENT
END:VCALENDAR