BEGIN:VCALENDAR
VERSION:2.0
PRODID:-//Community College of Philadelphia//NONSGML//EN
X-WR-CALNAME:Calendar
CALSCALE:GREGORIAN
BEGIN:VEVENT
UID:14069e7a1ad2f36c
DTSTART:20250417T180000Z
DTEND:20250417T190000Z
DTSTAMP:20250417T180000Z
CREATED:20260421T121125Z
DESCRIPTION:Join us for an online information session to learn more about our Nursing program's Advanced Placement option.This program begins with a course that bridges the information between the role of the Licensed Practical Nurse and the Registered Nurse\, students then join the final courses of the traditional program option. Priority is given to LPNs and military medics for admission\, and all applicants must have grades for Biology 109\, English 101\, Diet 111\, Math 118 and Chemistry 110.Learn more about Nursing Course Sequence Options and How to apply on our Nursing intake webpage.
LAST-MODIFIED:20250417T180000Z
LOCATION:
SUMMARY:Nursing Information Session - Advanced Placement Option
SEQUENCE:0
STATUS:CONFIRMED
TRANSP:OPAQUE
END:VEVENT
END:VCALENDAR