BEGIN:VCALENDAR
VERSION:2.0
PRODID:-//Community College of Philadelphia//NONSGML//EN
X-WR-CALNAME:Calendar
CALSCALE:GREGORIAN
BEGIN:VEVENT
UID:1869e7a163a5967
DTSTART:20250327T150000Z
DTEND:20250327T180000Z
DTSTAMP:20250327T150000Z
CREATED:20260421T121011Z
DESCRIPTION:The Community College of Philadelphia Foundation presents Finding Our Voices: Celebrating Women’s Strength and Stories to honor Women’s History Month.&nbsp\; Join us for an inspiring discussion with a panel of accomplished professional women as they share insights on balancing career\, family\, and overcoming challenges. We’ll also highlight the impactful work of our Women’s Outreach and Advocacy Center while raising funds for a vital initiative—the Women’s Empowerment Fund.Keynote Speaker: Andrea Lawful-Sanders\, Secretary\, CCP FoundationPanelists include leaders in government\, business\, public safety\, and the culinary arts.RSVP by March 24 at foundation.ccp.edu/WHM25 – Space is limited.
LAST-MODIFIED:20250327T150000Z
LOCATION:
SUMMARY:Finding Our Voices: Celebrating Women’s Strength and Stories
SEQUENCE:0
STATUS:CONFIRMED
TRANSP:OPAQUE
END:VEVENT
END:VCALENDAR