BEGIN:VCALENDAR
VERSION:2.0
PRODID:-//Community College of Philadelphia//NONSGML//EN
X-WR-CALNAME:Calendar
CALSCALE:GREGORIAN
BEGIN:VEVENT
UID:89269e78ce4e0b55
DTSTART:20250319T210000Z
DTEND:20250319T223000Z
DTSTAMP:20250319T210000Z
CREATED:20260421T104244Z
DESCRIPTION:Attend this&nbsp\;virtual&nbsp\;transfer fair to explore the transfer opportunities available at participating colleges offering&nbsp\;non-traditional\, evening\, part-time\, and/or online programs. Find the college that’s the right fit for you.Just drop by anytime between 5 and 6 p.m. to jump between the virtual zoom rooms and meet with the different representatives!Register to receive the zoom link.&nbsp\;
LAST-MODIFIED:20250319T210000Z
LOCATION:
SUMMARY:Evening/Non-traditional Transfer Fair
SEQUENCE:0
STATUS:CONFIRMED
TRANSP:OPAQUE
END:VEVENT
END:VCALENDAR