BEGIN:VCALENDAR
VERSION:2.0
PRODID:-//Community College of Philadelphia//NONSGML//EN
X-WR-CALNAME:Calendar
CALSCALE:GREGORIAN
BEGIN:VEVENT
UID:104869e788abcaf96
DTSTART:20250318T150000Z
DTEND:20250318T170000Z
DTSTAMP:20250318T150000Z
CREATED:20260421T102443Z
DESCRIPTION:Student speakers will share views and experiences on several topics. Join us for lunch and an engaging discussion.&nbsp\;
LAST-MODIFIED:20250318T150000Z
LOCATION:
SUMMARY:Fireside Chat with Dr. Generals
SEQUENCE:0
STATUS:CONFIRMED
TRANSP:OPAQUE
END:VEVENT
END:VCALENDAR