BEGIN:VCALENDAR
VERSION:2.0
PRODID:-//Community College of Philadelphia//NONSGML//EN
X-WR-CALNAME:Calendar
CALSCALE:GREGORIAN
BEGIN:VEVENT
UID:2769e78a34be2be
DTSTART:20250213T230000Z
DTEND:20250214T003000Z
DTSTAMP:20250213T230000Z
CREATED:20260421T103116Z
DESCRIPTION:Come out and support your Lions as they go head-to-head with Luzerne County! &nbsp\;Don’t miss the chance to cheer them on to victory — let’s pack the stands and show our pride!
LAST-MODIFIED:20250213T230000Z
LOCATION:
SUMMARY:Lions vs. Luzerne - Mens Basketball
SEQUENCE:0
STATUS:CONFIRMED
TRANSP:OPAQUE
END:VEVENT
END:VCALENDAR