BEGIN:VCALENDAR
VERSION:2.0
PRODID:-//Community College of Philadelphia//NONSGML//EN
X-WR-CALNAME:Calendar
CALSCALE:GREGORIAN
BEGIN:VEVENT
UID:47969e774a36e90b
DTSTART:20250224T153000Z
DTEND:20250224T180000Z
DTSTAMP:20250224T153000Z
CREATED:20260421T085915Z
DESCRIPTION:Join us for an exciting opportunity to meet with representatives from colleges across the region. Learn about academic programs\, admission requirements\, financial aid options\, and campus life directly from the experts. Whether you're exploring your options or ready to apply\, this event will help you make informed decisions about your future.
LAST-MODIFIED:20250224T153000Z
LOCATION:
SUMMARY:General Transfer Fair
SEQUENCE:0
STATUS:CONFIRMED
TRANSP:OPAQUE
END:VEVENT
END:VCALENDAR