BEGIN:VCALENDAR
VERSION:2.0
PRODID:-//Community College of Philadelphia//NONSGML//EN
X-WR-CALNAME:Calendar
CALSCALE:GREGORIAN
BEGIN:VEVENT
UID:125169e7748921cac
DTSTART:20250215T220000Z
DTEND:20250215T234500Z
DTSTAMP:20250215T220000Z
CREATED:20260421T085849Z
DESCRIPTION:In partnership with our Theater Program\, the Philadelphia Theater Company will be presenting special performances of its upcoming world premier musical\, “Night Side Songs.” This ground-breaking\, 90-minute new work explores the intimacy of illness\, mortality\, and the incredible dignity of caregivers through the story of Yasmine Holly\, a fictional character informed by interviews with real doctors\, hospital staff\, and patients.&nbsp\;RSVP here&nbsp\;or call 215-985-0420.
LAST-MODIFIED:20250215T220000Z
LOCATION:
SUMMARY:Special Performances of “Night Side Songs” with the Philadelphia Theater Company
SEQUENCE:0
STATUS:CONFIRMED
TRANSP:OPAQUE
END:VEVENT
END:VCALENDAR