BEGIN:VCALENDAR
VERSION:2.0
PRODID:-//Community College of Philadelphia//NONSGML//EN
X-WR-CALNAME:Calendar
CALSCALE:GREGORIAN
BEGIN:VEVENT
UID:35269e774894276a
DTSTART:20250205T180000Z
DTEND:20250205T190000Z
DTSTAMP:20250205T180000Z
CREATED:20260421T085849Z
DESCRIPTION:The Eagles are heading back&nbsp\;to the Super Bowl\, so\, in true Eagles superfan style\, we’re throwing the biggest tailgate party right here at CCP just ahead of the big game. Come celebrate and cheer on our E-A-G-L-E-S\, Eagles!You don’t want to miss this! We’re bringing the Linc to Spring Garden Street with music from Philadelphia Eagles and Power 99 DJ Diamond Kuts\, games\, contests\, Eagles swag—and Philly’s favorite snacks\, like wooder ice and pretzels.Come dressed in your Eagles best&nbsp\;and get ready to bring the noise:&nbsp\;This year’s tailgate is all about energy\, excitement\, and spirit. Show us your touchdown dances and let’s turn up the hype!&nbsp\;We’ll be awarding Eagles jerseys to our finest touchdown dance&nbsp\;and best dressed fan!We’re looking for the loudest\, most spirited fans on campus—so bring your game day energy and let's make some noise for the Birds.Be there as we chant the Eagles victory song and show the world why nobody likes us\, but we don’t care!
LAST-MODIFIED:20250205T180000Z
LOCATION:
SUMMARY:Eagles Tailgate Party
SEQUENCE:0
STATUS:CONFIRMED
TRANSP:OPAQUE
END:VEVENT
END:VCALENDAR