BEGIN:VCALENDAR
VERSION:2.0
PRODID:-//Community College of Philadelphia//NONSGML//EN
X-WR-CALNAME:Calendar
CALSCALE:GREGORIAN
BEGIN:VEVENT
UID:26469e7745faf48f
DTSTART:20250204T230000Z
DTEND:20250205T003000Z
DTSTAMP:20250204T230000Z
CREATED:20260421T085807Z
DESCRIPTION:Come out and support your Lions as they go head-to-head with Union County! &nbsp\;Don’t miss the chance to cheer them on to victory — let’s pack the stands and show our pride!
LAST-MODIFIED:20250204T230000Z
LOCATION:
SUMMARY:Lions vs. Union – Men's Basketball
SEQUENCE:0
STATUS:CONFIRMED
TRANSP:OPAQUE
END:VEVENT
END:VCALENDAR