BEGIN:VCALENDAR
VERSION:2.0
PRODID:-//Community College of Philadelphia//NONSGML//EN
X-WR-CALNAME:Calendar
CALSCALE:GREGORIAN
BEGIN:VEVENT
UID:82369e7745faf78f
DTSTART:20250201T190000Z
DTEND:20250201T203000Z
DTSTAMP:20250201T190000Z
CREATED:20260421T085807Z
DESCRIPTION:Come out and support your Lions as they go head-to-head with Cumberland! Don’t miss the chance to cheer them on to victory — let’s pack the stands and show our pride!
LAST-MODIFIED:20250201T190000Z
LOCATION:
SUMMARY:Lions vs. Cumberland – Men's Basketball
SEQUENCE:0
STATUS:CONFIRMED
TRANSP:OPAQUE
END:VEVENT
END:VCALENDAR