BEGIN:VCALENDAR
VERSION:2.0
PRODID:-//Community College of Philadelphia//NONSGML//EN
X-WR-CALNAME:Calendar
CALSCALE:GREGORIAN
BEGIN:VEVENT
UID:48369e7638d830ca
DTSTART:20250206T170000Z
DTEND:20250206T190000Z
DTSTAMP:20250206T170000Z
CREATED:20260421T074621Z
DESCRIPTION:Stop by to connect with the associate dean of Student Success\, Michael Webber\, have some popcorn and learn more about the services his office provides.
LAST-MODIFIED:20250206T170000Z
LOCATION:
SUMMARY:Popcorn Thursday!
SEQUENCE:0
STATUS:CONFIRMED
TRANSP:OPAQUE
END:VEVENT
END:VCALENDAR