BEGIN:VCALENDAR
VERSION:2.0
PRODID:-//Community College of Philadelphia//NONSGML//EN
X-WR-CALNAME:Calendar
CALSCALE:GREGORIAN
BEGIN:VEVENT
UID:229769e669344499e
DTSTART:20241125T144000Z
DTEND:20241125T200000Z
DTSTAMP:20241125T144000Z
CREATED:20260420T135812Z
DESCRIPTION:You're invited to a full day of programming designed to bring together students\, faculty\, and community leaders to promote mental health awareness. Join us to learn more available mental health resources\, and spark meaningful conversations about improving support on campus. Highlights include a keynote speech by Councilperson Kendra Brooks\, interactive workshops\, and opportunities to connect with mental health advocates. Detailed schedule below.Mental Health Conference 2024 Schedule9:40 - 11:10 a.m.: Gender-Based Violence Prevention and Response Presentation by the Women's Outreach and Advocacy Center11:20 a.m. - 12:50 p.m.: PSYC 110 Student Presentation: "Barriers to Students Accessing Mental Health Services"Keynote Speaker: Councilperson Kendra Brooks1 - 2 p.m.: Panel Discussion: "Brainstorming Session for Improving Mental Health Services at CCP"2 - 3 p.m.: A Holistic Approach to Recovery Services: NARCAN Training and Recovery Art Therapy with Lisa KelleyOutside Tables:Mental Health Gumball Machine"Check Up from the Neck Up"Merakey Walk-In Mental Health Urgent Care (Broad Street)
LAST-MODIFIED:20241125T144000Z
LOCATION:
SUMMARY:Mental Health Conference
SEQUENCE:0
STATUS:CONFIRMED
TRANSP:OPAQUE
END:VEVENT
END:VCALENDAR