BEGIN:VCALENDAR
VERSION:2.0
PRODID:-//Community College of Philadelphia//NONSGML//EN
X-WR-CALNAME:Calendar
CALSCALE:GREGORIAN
BEGIN:VEVENT
UID:94269ed88ac124f4
DTSTART:20240604T171500Z
DTEND:20240604T040000Z
DTSTAMP:20240604T171500Z
CREATED:20260425T233820Z
DESCRIPTION:Join us on June 4 from 1:15 to 2 p.m. for an online information session to meet program faculty\, ask questions and learn more about this IN-DEMAND CAREER with a GREAT SALARY. A link to join the information session will be emailed to you the day before the information session.&nbsp\;Medical laboratory technicians are a critical part of health care teams\, working behind the scenes to help physicians diagnose and treat patients. In fact\, 70 percent of medical decisions are based on lab results.PROGRAM BENEFITSClinical experience in hospital labs&nbsp\;Work settings include hospital\, research\, fertility\, pharmaceutical and forensic labsPrepare for national certification exam and a career after graduationAccredited by the National Accrediting Agency for Clinical Laboratory SciencesMedian salary in the Philadelphia region is $68\,589
LAST-MODIFIED:20240604T171500Z
LOCATION:
SUMMARY:Medical Laboratory Technician Program Information Session
SEQUENCE:0
STATUS:CONFIRMED
TRANSP:OPAQUE
END:VEVENT
END:VCALENDAR