BEGIN:VCALENDAR
VERSION:2.0
PRODID:-//Community College of Philadelphia//NONSGML//EN
X-WR-CALNAME:Calendar
CALSCALE:GREGORIAN
BEGIN:VEVENT
UID:92069eb9cca7e2bf
DTSTART:20240408T040000Z
DTEND:20240408T040000Z
DTSTAMP:20240408T040000Z
CREATED:20260424T123938Z
DESCRIPTION:
LAST-MODIFIED:20240408T040000Z
LOCATION:
SUMMARY:CORE Survivor Group (Cancelled)
SEQUENCE:0
STATUS:CONFIRMED
TRANSP:OPAQUE
END:VEVENT
END:VCALENDAR