BEGIN:VCALENDAR
VERSION:2.0
PRODID:-//Community College of Philadelphia//NONSGML//EN
X-WR-CALNAME:Calendar
CALSCALE:GREGORIAN
BEGIN:VEVENT
UID:200469eb9cb973fc6
DTSTART:20240406T040000Z
DTEND:20240406T040000Z
DTSTAMP:20240406T040000Z
CREATED:20260424T123921Z
DESCRIPTION:
LAST-MODIFIED:20240406T040000Z
LOCATION:
SUMMARY:Philly Spring Cleanup
SEQUENCE:0
STATUS:CONFIRMED
TRANSP:OPAQUE
END:VEVENT
END:VCALENDAR