BEGIN:VCALENDAR
VERSION:2.0
PRODID:-//Community College of Philadelphia//NONSGML//EN
X-WR-CALNAME:Calendar
CALSCALE:GREGORIAN
BEGIN:VEVENT
UID:93969eb84605adaa
DTSTART:20240405T040000Z
DTEND:20240405T040000Z
DTSTAMP:20240405T040000Z
CREATED:20260424T105528Z
DESCRIPTION:
LAST-MODIFIED:20240405T040000Z
LOCATION:
SUMMARY:First Friday Art Department Gathering in Old City
SEQUENCE:0
STATUS:CONFIRMED
TRANSP:OPAQUE
END:VEVENT
END:VCALENDAR