BEGIN:VCALENDAR
VERSION:2.0
PRODID:-//Community College of Philadelphia//NONSGML//EN
X-WR-CALNAME:Calendar
CALSCALE:GREGORIAN
BEGIN:VEVENT
UID:47869eb859e4ef7d
DTSTART:20240404T040000Z
DTEND:20240404T040000Z
DTSTAMP:20240404T040000Z
CREATED:20260424T110046Z
DESCRIPTION:
LAST-MODIFIED:20240404T040000Z
LOCATION:
SUMMARY:APRIL IS ART Student Exhibition & Opening Reception
SEQUENCE:0
STATUS:CONFIRMED
TRANSP:OPAQUE
END:VEVENT
END:VCALENDAR