BEGIN:VCALENDAR
VERSION:2.0
PRODID:-//Community College of Philadelphia//NONSGML//EN
X-WR-CALNAME:Calendar
CALSCALE:GREGORIAN
BEGIN:VEVENT
UID:71669eb85056d4aa
DTSTART:20240404T040000Z
DTEND:20240404T040000Z
DTSTAMP:20240404T040000Z
CREATED:20260424T105813Z
DESCRIPTION:
LAST-MODIFIED:20240404T040000Z
LOCATION:
SUMMARY:Women's Center: Create and Connect
SEQUENCE:0
STATUS:CONFIRMED
TRANSP:OPAQUE
END:VEVENT
END:VCALENDAR